BEGIN:VCALENDAR
PRODID:-//vBulletin 6//EN
VERSION:2.0
CALSCALE:GREGORIAN
BEGIN:VEVENT
UID:a3378dad-321f-4fbd-bb6d-4d7681c45c52
DTSTAMP:20260421T125515Z
SUMMARY:The WW Shows Nashville\, TN
DESCRIPTION:Wilson County Fairgrounds/James E. Ward Ag. Center\n\n945 East 
 Baddour Parkway\nLebanon\, TN 37087 United States\n\nThe Woodworking Shows
  Events (https://www.thewoodworkingshows.com/events/)&#8203\;
URL:https://www.sawdustzone.org/node/855357
DTSTART;VALUE=DATE:20240323
DTEND;VALUE=DATE:20240325
END:VEVENT
END:VCALENDAR
