BEGIN:VCALENDAR
PRODID:-//vBulletin 6//EN
VERSION:2.0
CALSCALE:GREGORIAN
BEGIN:VEVENT
UID:9e4f8745-b3a8-4400-9931-67bf1f829573
DTSTAMP:20260425T220025Z
SUMMARY:WW Shows Baltimore\, Maryland
DESCRIPTION:Details To Be Provided\n\nThe Woodworking Shows Events Calendar
  (https://www.thewoodworkingshows.com/events/)
URL:https://www.sawdustzone.org/node/855272
DTSTART;VALUE=DATE:20240105
DTEND;VALUE=DATE:20240108
END:VEVENT
END:VCALENDAR
